Workbook
Name _ftn1: 'Cap4. Balance Apple'!#REF!
Name _ftn1: 'Cap4. Cuenta resultados Apple'!#REF!
Name _ftn1: 'EEFF Apple y cálculo ratios'!#REF!
Name _ftnref1: 'Cap4. Balance Apple'!#REF!
Name _ftnref1: 'Cap4. Cuenta resultados Apple'!#REF!
Name _ftnref1: 'EEFF Apple y cálculo ratios'!$B$329

Sheet Inicio
B5: Capítulo 1. QUIÉN ES JOEL GREENBLATT Y CUÁL ES EL FUNDAMENTO DE “SU FÓRMULA MÁGICA”
B7: Imagen 1 | C7: Retornos de Greenblatt al frente de Gotham Capital
B8: Imagen 2 | C8: Lista de fondos gestionados por Greenblatt basados en la Fórmula Mágica
B9: Imagen 6 | C9: Retornos de Warren Buffett desde 1956 hasta 2024
B11: Capítulo 2 HABLEMOS UN POCO DE RENTABILIDAD
B13: Imagen 7 hasta imagen 15 | C13: Ejemplos de cálculo de rentabilidad
B15: Capítulo 3 ¿FUNCIONA, LA FÓRMULA MÁGICA?
B17: Imagen 16 hasta imagen 19 | C17: Backtesting de la Fórmula Mágica
B18: Imagen 20 | C18: Volatilidad
B20: Capítulo 4 ¿QUÉ DEFINE A UNA COMPAÑÍA MARAVILLOSA?
B22: Sección 4.1. Cuenta de resultados
B24: Imagen 25 hasta imagen 31 | C24: Cuenta de resultados familia
B25: Imagen 32 | C25: Cuenta de resultados Apple (2021 a 2025)
B27: Sección 4.2. Balance de situación
B29: Imagen 35 | C29: Balance de situación familia
B30: Imagen 37 | C30: Balance de situación Apple
B31: Imagen 38 hasta imagen 39 | C31: ROA Apple
B32: Imagen 41 hasta imagen 43 | C32: Cálculo del Goodwill en el ejemplo de la adquisión de "The Best"
B33: Imagen 45 hasta imagen 47 | C33: Cálculo Working Capital, PMC, PMP, PMR, PMM de Apple
B34: Imagen 49 hasta imagen 50 | C34: Cálculo ROC de Greenblatt en Apple
B35: Imagen 51 | C35: Gastos en Investigación y desarrollo de las 7 magníficas
B36: Imagen 52 hasta imagen 57 | C36: Ajustes I+D Apple para estimar el EBIT ajustado
B37: Imagen 58 | C37: Cálculo ROCE Apple
B38: Imagen 60 hasta imagen 64 | C38: Cálculo ROIC "La Cuchilla"
B39: Imagen 65 | C39: Comparativa ROCE vs ROIC Apple
B41: Sección 4.3. Cuadros de flujos de efectivo
B43: Imagen 67 hasta imagen 69 | C43: Cuadro de Flujos familia
B44: Imagen 70 | C44: Cuadro resumen de partidas que aumentan o disminuyen el flujo de caja
B45: Imagen 71 | C45: Ratio CapEx/ventas por industria
B46: Imagen 72 | C46: Flujo actividades de financiación Apple
B47: Imagen 73 hasta imagen 74 | C47: Capital allocation cuñado manirroto
B48: Imagen 75 hasta imagen 77 | C48: Análisis flujos Apple
B49: Imagen 78 | C49: Buffett y los dividendos
B50: Imagen 80 hasta imagen 81 | C50: Ejemplos Yield On Cost
B51: Imagen 82 hasta imagen 85 | C51: Cálculo FCFF académico Apple
B52: Imagen 87 | C52: Cálculo FCFE académico Apple
B53: Imagen 88 | C53: Remuneración accionistas/FCFE Apple
B54: Imagen 90 | C54: Flujo de caja para los accionistas Apple
... B56: Imagen 92 hasta imagen 93 | C56: Cálculo ROE Stuppazuck, S.L.
B58: Capítulo 5 ¿QUÉ ES ESO DE «PRECIO RAZONABLE»?
...

Sheet Cap1. R Gotham Capital
A1: Inicio
B2: (Imagen 1) | F2: (Imagen 2)
B3: Retornos de Gotham Capital | F3: Retornos fondos basados en la Fórmula Mágica
D5: Retorno acumulado | Q5: Benchmarks (CAGR)
C6: Retornos | D6: 100000 | F6: NOMBRE | G6: TICKER | H6: TER | I6: FUND | J6: RUSSELL | K6: SP500 | N6: Fondo | O6: Ticker | P6: CAGR | Q6: Russel | R6: SP500
B7: 1985* | C7: 0.704 | D7: =+D6*(1+C7) -> 170400 | F7: Formula Investing U.S. Value 1000 Fund | G7: FVVAX | H7: 0.0128 | I7: 0.1638 | J7: 0.1422 | K7: 0.14 | M7: 1 | N7: Formula Investing U.S. Value 1000 Fund | O7: FVVAX | P7: 0.1638 | Q7: 0.1422 | R7: 0.14
B8: 1986 | C8: 0.536 | D8: =+D7*(1+C8) -> 261734.4 | F8: Formula Investing U.S. Value Select Fund | G8: FNSAX | H8: 0.0135 | I8: 0.1831 | J8: 0.1422 | K8: 0.14 | M8: 2 | N8: Formula Investing U.S. Value Select Fund | O8: FNSAX | P8: 0.1831 | Q8: 0.1422 | R8: 0.14
B9: 1987 | C9: 0.294 | D9: =+D8*(1+C9) -> 338684.31 | F9: NOMBRE | G9: TICKER | H9: TER | I9: FUND | J9: MSCI WORLD EX US | K9: EAFE | Q9: MSCI World EX US | R9: EAFE
B10: 1988 | C10: 0.644 | D10: =+D9*(1+C10) -> 556797.01 | F10: Formula Investing International Value 400 Fund | G10: FNVAX | H10: 0.0137 | I10: 0.0367 | J10: 0.0425 | K10: 0.0489 | M10: 3 | N10: Formula Investing International Value 400 Fund | O10: FNVAX | P10: 0.0367 | Q10: 0.0425 | R10: 0.0489
B11: 1989 | C11: 0.319 | D11: =+D10*(1+C11) -> 734415.26 | F11: Formula Investing International Value Select Fund | G11: FNAAX | H11: 0.0147 | I11: -0.0103 | J11: 0.0425 | K11: 0.0489 | M11: 4 | N11: Formula Investing International Value Select Fund | O11: FNAAX | P11: -0.0103 | Q11: 0.0425 | R11: 0.0489
B12: 1990 | C12: 0.316 | D12: =+D11*(1+C12) -> 966490.48 | F12: NOMBRE | G12: TICKER | H12: TER | I12: FUND | J12: RUSSEL 1000 | K12: SP500 | Q12: Russel | R12: SP500
B13: 1991 | C13: 0.285 | D13: =+D12*(1+C13) -> 1241940.3 | F13: Formula Investing U.S. Value Select Fund | G13: FNSIX | H13: 0.011 | I13: 0.2603 | J13: 0.2098 | K13: 0.204 | M13: 5 | N13: Formula Investing U.S. Value Select Fund | O13: FNSIX | P13: 0.2603 | Q13: 0.2098 | R13: 0.204
B14: 1992 | C14: 0.306 | D14: =+D13*(1+C14) -> 1621974 | F14: NOMBRE | G14: TICKER | H14: TER | I14: FUND | J14: MSCI WORLD EX US | K14: EAFE | Q14: MSCI World EX US | R14: EAFE
B15: 1993 | C15: 1.152 | D15: =+D14*(1+C15) -> 3490488 | F15: Formula Investing International Value Select Fund | G15: FNAIX | H15: 0.0122 | I15: -0.0212 | J15: 0.0206 | K15: 0.0281 | M15: 6 | N15: Formula Investing International Value Select Fund | O15: FNAIX | P15: -0.0212 | Q15: 0.0206 | R15: 0.0281
B16: 1994 | C16: 0.489 | D16: =+D15*(1+C16) -> 5197336.7
F17: URL: https://web.archive.org/web/20130916054425/http://www.formulainvestingfunds.com/MutualFunds/
B18: CAGR | C18: =+(D16/D6)^(1/(9+(8/12)))-1 -> 0.50485471
B19: Retorno acumulado | C19: =+(D16/D6)-1 -> 50.973367
B20: *1985 sólo 9 meses
B22: CAGR después comisiones | C22: 0.3
B23: Capital final partícipe | C23: =+D6*(1+C22)^10 -> 1378584.9

Sheet Cap1. Retornos Buffett
A1: Inicio
B3: SIMULACIÓN: 100 $ invertidos con Buffett (1956–2024) | K3: Inversión → | L3: 100
B4: Inversión inicial ($)
B5: Año | C5: Gestora | D5: Retorno anual (%) | E5: Retorno S&P 500 (%) | F5: Diferencial (%) | H5: 1+Retorno | I5: 1+S&P 500 | L5: Valor de 100 $ ($)
B6: 1956 | C6: Buffett Partnership | D6: 0.13 | E6: 0.066 | F6: =D6-E6 -> 0.064 | H6: =1+D6 -> 1.13 | I6: =1+E6 -> 1.066 | L6: =L3*(1+D6) -> 113
B7: 1957 | C7: Buffett Partnership | D7: 0.093 | E7: -0.108 | F7: =D7-E7 -> 0.201 | H7: =1+D7 -> 1.093 | I7: =1+E7 -> 0.892 | L7: =L6*(1+D7) -> 123.509
B8: 1958 | C8: Buffett Partnership | D8: 0.322 | E8: 0.434 | F8: =D8-E8 -> -0.112 | H8: =1+D8 -> 1.322 | I8: =1+E8 -> 1.434 | L8: =L7*(1+D8) -> 163.2789
B9: 1959 | C9: Buffett Partnership | D9: 0.209 | E9: 0.12 | F9: =D9-E9 -> 0.089 | H9: =1+D9 -> 1.209 | I9: =1+E9 -> 1.12 | L9: =L8*(1+D9) -> 197.40419
B10: 1960 | C10: Buffett Partnership | D10: 0.186 | E10: 0.005 | F10: =D10-E10 -> 0.181 | H10: =1+D10 -> 1.186 | I10: =1+E10 -> 1.005 | L10: =L9*(1+D10) -> 234.12137
B11: 1961 | C11: Buffett Partnership | D11: 0.359 | E11: 0.269 | F11: =D11-E11 -> 0.09 | H11: =1+D11 -> 1.359 | I11: =1+E11 -> 1.269 | L11: =L10*(1+D11) -> 318.17094
B12: 1962 | C12: Buffett Partnership | D12: 0.119 | E12: -0.087 | F12: =D12-E12 -> 0.206 | H12: =1+D12 -> 1.119 | I12: =1+E12 -> 0.913 | L12: =L11*(1+D12) -> 356.03328
B13: 1963 | C13: Buffett Partnership | D13: 0.305 | E13: 0.228 | F13: =D13-E13 -> 0.077 | H13: =1+D13 -> 1.305 | I13: =1+E13 -> 1.228 | L13: =L12*(1+D13) -> 464.62343
B14: 1964 | C14: Buffett Partnership | D14: 0.223 | E14: 0.165 | F14: =D14-E14 -> 0.058 | H14: =1+D14 -> 1.223 | I14: =1+E14 -> 1.165 | L14: =L13*(1+D14) -> 568.23445
B15: 1965 | C15: Transición BP→Berkshire | D15: 0.495 | E15: 0.1 | F15: =D15-E15 -> 0.395 | H15: =1+D15 -> 1.495 | I15: =1+E15 -> 1.1 | L15: =L14*(1+D15) -> 849.51051
B16: 1966 | C16: Berkshire Hathaway | D16: -0.034 | E16: -0.117 | F16: =D16-E16 -> 0.083 | H16: =1+D16 -> 0.966 | I16: =1+E16 -> 0.883 | L16: =L15*(1+D16) -> 820.62715
B17: 1967 | C17: Berkshire Hathaway | D17: 0.133 | E17: 0.309 | F17: =D17-E17 -> -0.176 | H17: =1+D17 -> 1.133 | I17: =1+E17 -> 1.309 | L17: =L16*(1+D17) -> 929.77056
B18: 1968 | C18: Berkshire Hathaway | D18: 0.778 | E18: 0.11 | F18: =D18-E18 -> 0.668 | H18: =1+D18 -> 1.778 | I18: =1+E18 -> 1.11 | L18: =L17*(1+D18) -> 1653.1321
... B74: 2024 | C74: Berkshire Hathaway | D74: 0.255 | E74: 0.25 | F74: =D74-E74 -> 0.005 | H74: =1+D74 -> 1.255 | I74: =1+E74 -> 1.25 | L74: =L73*(1+D74) -> 31198561
B76: Nº de años | C76: CAGR (media geométrica anual) | D76: =GEOMEAN(H6:H74)-1 -> 0.20122715 | E76: =GEOMEAN(I6:I74)-1 -> 0.10498971 | J76: Nº años: | K76: =COUNT(B6:B74) -> 69 | L76: ← valor final
D78: (Imagen 6)
D79: Década | E79: Buffett | F79: S&P 500
D80: 50s | E80: =GEOMEAN(H6:H9)-1 -> 0.18532949 | F80: =GEOMEAN(I6:I9)-1 -> 0.11166084 | H80: =+E80-F80 -> 0.07366865
D81: 60s | E81: =GEOMEAN(H10:H19)-1 -> 0.25891252 | F81: =GEOMEAN(I10:I19)-1 -> 0.079725664 | H81: =+E81-F81 -> 0.17918685
D82: 70s | E82: =GEOMEAN(H20:H29)-1 -> 0.2223787 | F82: =GEOMEAN(I20:I29)-1 -> 0.057752865 | H82: =+E82-F82 -> 0.16462584
D83: 80s | E83: =GEOMEAN(H30:H39)-1 -> 0.3909208 | F83: =GEOMEAN(I30:I39)-1 -> 0.17441788 | H83: =+E83-F83 -> 0.21650291
D84: 90s | E84: =GEOMEAN(H40:H49)-1 -> 0.20510846 | F84: =GEOMEAN(I40:I49)-1 -> 0.18218353 | H84: =+E84-F84 -> 0.022924929
D85: 00s | E85: =GEOMEAN(H50:H59)-1 -> 0.058550772 | F85: =GEOMEAN(I50:I59)-1 -> -0.0094520752 | H85: =+E85-F85 -> 0.068002847
D86: 10s | E86: =GEOMEAN(H60:H69)-1 -> 0.13085574 | F86: =GEOMEAN(I60:I69)-1 -> 0.13566291 | H86: =+E86-F86 -> -0.0048071635
D87: 20s | E87: =GEOMEAN(H70:H74)-1 -> 0.14936539 | F87: =GEOMEAN(I70:I74)-1 -> 0.14526372 | H87: =+E87-F87 -> 0.0041016738
D88: Total | E88: =GEOMEAN(H6:H74)-1 -> 0.20122715 | F88: =GEOMEAN(I6:I74)-1 -> 0.10498971
B91: NOTAS DE LA CORRECCIÓN:
B92: 1) 1965 se cuenta como UN único periodo anual (antes aparecía dos veces: partnership 36,9% y Berkshire 49,5%, encadenados).
B93: Esto evita el doble cómputo de ese año. Celda amarilla = dato editable para 1965.
B94: 2) Década 20s ahora incluye 2020 (antes el rango empezaba en 2021 y dejaba fuera ese año).
B95: 3) CAGR = media geométrica de (1+retorno). Valor final encadenando los retornos año a año sobre 100 $.
J98: =+(1.15/1)^(1/3)-1 -> 0.047689553

Sheet Cap2. Rentabilidad
A1: Inicio
B3: Cálculo del beneficio y de rentabilidad acumulada
B5: Inversión inicial | C5: 100 | D5: 1000
B6: Capital final | C6: 130 | D6: 1030
B7: Beneficio o pérdida | C7: =+C6-C5 -> 30 | D7: =+D6-D5 -> 30
B9: Rentabilidad acumulada | C9: =+C6/C5-1 -> 0.3 | D9: =+D6/D5-1 -> 0.03
B11: Rentabilidad simple Vs Rentabilidad compuesta
B13: Periodo | C13: Capital inicial | D13: Rentabilidad | E13: Crecimiento exponencial | F13: Crecimiento lineal
B14: 1 | C14: 100 | D14: 0.1 | E14: =+C14*(1+D14) -> 110 | F14: =+$C$14*(1+$D$14*B14) -> 110
B15: 2 | C15: =+E14 -> 110 | D15: =+D14 -> 0.1 | E15: =+C15*(1+D15) -> 121 | F15: =+$C$14*(1+$D$14*B15) -> 120
B16: 3 | C16: =+E15 -> 121 | D16: =+D15 -> 0.1 | E16: =+C16*(1+D16) -> 133.1 | F16: =+$C$14*(1+$D$14*B16) -> 130
B17: 4 | C17: =+E16 -> 133.1 | D17: =+D16 -> 0.1 | E17: =+C17*(1+D17) -> 146.41 | F17: =+$C$14*(1+$D$14*B17) -> 140
B18: 5 | C18: =+E17 -> 146.41 | D18: =+D17 -> 0.1 | E18: =+C18*(1+D18) -> 161.051 | F18: =+$C$14*(1+$D$14*B18) -> 150
B19: 6 | C19: =+E18 -> 161.051 | D19: =+D18 -> 0.1 | E19: =+C19*(1+D19) -> 177.1561 | F19: =+$C$14*(1+$D$14*B19) -> 160
B20: 7 | C20: =+E19 -> 177.1561 | D20: =+D19 -> 0.1 | E20: =+C20*(1+D20) -> 194.87171 | F20: =+$C$14*(1+$D$14*B20) -> 170
B21: 8 | C21: =+E20 -> 194.87171 | D21: =+D20 -> 0.1 | E21: =+C21*(1+D21) -> 214.35888 | F21: =+$C$14*(1+$D$14*B21) -> 180
B22: 9 | C22: =+E21 -> 214.35888 | D22: =+D21 -> 0.1 | E22: =+C22*(1+D22) -> 235.79477 | F22: =+$C$14*(1+$D$14*B22) -> 190
B23: 10 | C23: =+E22 -> 235.79477 | D23: =+D22 -> 0.1 | E23: =+C23*(1+D23) -> 259.37425 | F23: =+$C$14*(1+$D$14*B23) -> 200
B24: 11 | C24: =+E23 -> 259.37425 | D24: =+D23 -> 0.1 | E24: =+C24*(1+D24) -> 285.31167 | F24: =+$C$14*(1+$D$14*B24) -> 210
B25: 12 | C25: =+E24 -> 285.31167 | D25: =+D24 -> 0.1 | E25: =+C25*(1+D25) -> 313.84284 | F25: =+$C$14*(1+$D$14*B25) -> 220
B26: 13 | C26: =+E25 -> 313.84284 | D26: =+D25 -> 0.1 | E26: =+C26*(1+D26) -> 345.22712 | F26: =+$C$14*(1+$D$14*B26) -> 230
... B43: 30 | C43: =+E42 -> 1586.3093 | D43: =+D42 -> 0.1 | E43: =+C43*(1+D43) -> 1744.9402 | F43: =+$C$14*(1+$D$14*B43) -> 400
B45: Fórmula capitalización simple | C45: Cf=Cox(1+Rxn)
B46: Fórmula capitalizacióncompuesta | C46: Cf=Cox(1+R)^n
B48: Inversión de 100 dólares al 10% durante 30 años (simple vs compuesta)
C50: Interés simple | D50: Interés compuesto
B51: Capital inicial | C51: 100 | D51: 100
B52: Rentabilidad | C52: 0.1 | D52: 0.1
B53: Tiempo | C53: 30 | D53: 30
B54: Capital final | C54: =+C51*(1+C52*C53) -> 400 | D54: =+D51*(1+D52)^D53 -> 1744.9402
B56: ¿Qué es mejor, un 20% anual durante 5 años, o un 5% durante 20 años?
B58: Capital inicial | C58: 100 | D58: 100
B59: Rentabilidad | C59: 0.2 | D59: 0.05
B60: Tiempo | C60: 5 | D60: 20
B61: Capital final | C61: =+C58*(1+C59)^C60 -> 248.832 | D61: =+D58*(1+D59)^D60 -> 265.32977
B66: Tiempo | C66: 0.2 | D66: 0.05
B67: 1 | C67: =100*(1+$C$66)^B67 -> 120 | D67: =100*(1+$D$66)^B67 -> 105
B68: 2 | C68: =100*(1+$C$66)^B68 -> 144 | D68: =100*(1+$D$66)^B68 -> 110.25
B69: 3 | C69: =100*(1+$C$66)^B69 -> 172.8 | D69: =100*(1+$D$66)^B69 -> 115.7625
B70: 4 | C70: =100*(1+$C$66)^B70 -> 207.36 | D70: =100*(1+$D$66)^B70 -> 121.55062
...

Sheet Cap3. Backtesting FM
A1: Inicio | C1: (Imagen 16)
C2: Año | D2: FM All market | E2: FM "selecta" | F2: Media mercado all market | G2: Media mercado "selecta" | H2: S&P500 | K2: FM All market | L2: FM Large Cap. | M2: Media mercado all market | N2: Media mercado large cap. | O2: S&P500
C3: 1988 | D3: 0.271 | E3: 0.294 | F3: 0.248 | G3: 0.196 | H3: 0.166 | K3: =1+D3 -> 1.271 | L3: =1+E3 -> 1.294 | M3: =1+F3 -> 1.248 | N3: =1+G3 -> 1.196 | O3: =1+H3 -> 1.166
C4: 1989 | D4: 0.446 | E4: 0.3 | F4: 0.18 | G4: 0.276 | H4: 0.317 | K4: =1+D4 -> 1.446 | L4: =1+E4 -> 1.3 | M4: =1+F4 -> 1.18 | N4: =1+G4 -> 1.276 | O4: =1+H4 -> 1.317
C5: 1990 | D5: 0.017 | E5: -0.06 | F5: -0.161 | G5: -0.071 | H5: -0.031 | K5: =1+D5 -> 1.017 | L5: =1+E5 -> 0.94 | M5: =1+F5 -> 0.839 | N5: =1+G5 -> 0.929 | O5: =1+H5 -> 0.969
C6: 1991 | D6: 0.706 | E6: 0.515 | F6: 0.456 | G6: 0.344 | H6: 0.305 | K6: =1+D6 -> 1.706 | L6: =1+E6 -> 1.515 | M6: =1+F6 -> 1.456 | N6: =1+G6 -> 1.344 | O6: =1+H6 -> 1.305
C7: 1992 | D7: 0.324 | E7: 0.164 | F7: 0.114 | G7: 0.103 | H7: 0.076 | K7: =1+D7 -> 1.324 | L7: =1+E7 -> 1.164 | M7: =1+F7 -> 1.114 | N7: =1+G7 -> 1.103 | O7: =1+H7 -> 1.076
C8: 1993 | D8: 0.172 | E8: 0.005 | F8: 0.159 | G8: 0.144 | H8: 0.101 | K8: =1+D8 -> 1.172 | L8: =1+E8 -> 1.005 | M8: =1+F8 -> 1.159 | N8: =1+G8 -> 1.144 | O8: =1+H8 -> 1.101
C9: 1994 | D9: 0.22 | E9: 0.153 | F9: -0.045 | G9: 0.005 | H9: 0.013 | K9: =1+D9 -> 1.22 | L9: =1+E9 -> 1.153 | M9: =1+F9 -> 0.955 | N9: =1+G9 -> 1.005 | O9: =1+H9 -> 1.013
C10: 1995 | D10: 0.34 | E10: 0.559 | F10: 0.291 | G10: 0.314 | H10: 0.376 | K10: =1+D10 -> 1.34 | L10: =1+E10 -> 1.559 | M10: =1+F10 -> 1.291 | N10: =1+G10 -> 1.314 | O10: =1+H10 -> 1.376
C11: 1996 | D11: 0.173 | E11: 0.374 | F11: 0.149 | G11: 0.162 | H11: 0.23 | K11: =1+D11 -> 1.173 | L11: =1+E11 -> 1.374 | M11: =1+F11 -> 1.149 | N11: =1+G11 -> 1.162 | O11: =1+H11 -> 1.23
C12: 1997 | D12: 0.404 | E12: 0.41 | F12: 0.168 | G12: 0.196 | H12: 0.334 | K12: =1+D12 -> 1.404 | L12: =1+E12 -> 1.41 | M12: =1+F12 -> 1.168 | N12: =1+G12 -> 1.196 | O12: =1+H12 -> 1.334
C13: 1998 | D13: 0.255 | E13: 0.326 | F13: -0.02 | G13: 0.099 | H13: 0.286 | K13: =1+D13 -> 1.255 | L13: =1+E13 -> 1.326 | M13: =1+F13 -> 0.98 | N13: =1+G13 -> 1.099 | O13: =1+H13 -> 1.286
C14: 1999 | D14: 0.53 | E14: 0.144 | F14: 0.361 | G14: 0.351 | H14: 0.21 | K14: =1+D14 -> 1.53 | L14: =1+E14 -> 1.144 | M14: =1+F14 -> 1.361 | N14: =1+G14 -> 1.351 | O14: =1+H14 -> 1.21
... C19: 2004 | D19: 0.193 | E19: 0.276 | F19: 0.178 | G19: 0.173 | H19: 0.109 | K19: =1+D19 -> 1.193 | L19: =1+E19 -> 1.276 | M19: =1+F19 -> 1.178 | N19: =1+G19 -> 1.173 | O19: =1+H19 -> 1.109
C20: CAGR | D20: =++K21 -> 0.30834601 | E20: =++L21 -> 0.22858905 | F20: =++M21 -> 0.12283186 | G20: =++N21 -> 0.1166105 | H20: =++O21 -> 0.12395333 | K20: =+PRODUCT(K3:K19) -> 96.446053 | L20: =+PRODUCT(L3:L19) -> 33.106471 | M20: =+PRODUCT(M3:M19) -> 7.167214 | N20: =+PRODUCT(N3:N19) -> 6.5212227 | O20: =+PRODUCT(O3:O19) -> 7.2898855
J21: R.geom | K21: =+(K20)^(1/17)-1 -> 0.30834601 | L21: =+(L20)^(1/17)-1 -> 0.22858905 | M21: =+(M20)^(1/17)-1 -> 0.12283186 | N21: =+(N20)^(1/17)-1 -> 0.1166105 | O21: =+(O20)^(1/17)-1 -> 0.12395333
J23: (Imagen 17)
C25: Año | D25: FM All market | E25: FM "selecta" | F25: Media mercado all market | G25: Media mercado "selecta" | H25: S&P500
C26: Inversión | D26: 100000 | E26: 100000 | F26: 100000 | G26: 100000 | H26: 100000
C27: 1988 | D27: =+D26*(1+D3) -> 127100 | E27: =+E26*(1+E3) -> 129400 | F27: =+F26*(1+F3) -> 124800 | G27: =+G26*(1+G3) -> 119600 | H27: =+H26*(1+H3) -> 116600
C28: 1989 | D28: =+D27*(1+D4) -> 183786.6 | E28: =+E27*(1+E4) -> 168220 | F28: =+F27*(1+F4) -> 147264 | G28: =+G27*(1+G4) -> 152609.6 | H28: =+H27*(1+H4) -> 153562.2
C29: 1990 | D29: =+D28*(1+D5) -> 186910.97 | E29: =+E28*(1+E5) -> 158126.8 | F29: =+F28*(1+F5) -> 123554.5 | G29: =+G28*(1+G5) -> 141774.32 | H29: =+H28*(1+H5) -> 148801.77
C30: 1991 | D30: =+D29*(1+D6) -> 318870.12 | E30: =+E29*(1+E6) -> 239562.1 | F30: =+F29*(1+F6) -> 179895.35 | G30: =+G29*(1+G6) -> 190544.68 | H30: =+H29*(1+H6) -> 194186.31
C31: 1992 | D31: =+D30*(1+D7) -> 422184.04 | E31: =+E30*(1+E7) -> 278850.29 | F31: =+F30*(1+F7) -> 200403.42 | G31: =+G30*(1+G7) -> 210170.79 | H31: =+H30*(1+H7) -> 208944.47
C32: 1993 | D32: =+D31*(1+D8) -> 494799.69 | E32: =+E31*(1+E8) -> 280244.54 | F32: =+F31*(1+F8) -> 232267.56 | G32: =+G31*(1+G8) -> 240435.38 | H32: =+H31*(1+H8) -> 230047.86
C33: 1994 | D33: =+D32*(1+D9) -> 603655.62 | E33: =+E32*(1+E9) -> 323121.95 | F33: =+F32*(1+F9) -> 221815.52 | G33: =+G32*(1+G9) -> 241637.56 | H33: =+H32*(1+H9) -> 233038.49
C34: 1995 | D34: =+D33*(1+D10) -> 808898.54 | E34: =+E33*(1+E10) -> 503747.12 | F34: =+F33*(1+F10) -> 286363.83 | G34: =+G33*(1+G10) -> 317511.75 | H34: =+H33*(1+H10) -> 320660.96
C35: 1996 | D35: =+D34*(1+D11) -> 948837.98 | E35: =+E34*(1+E11) -> 692148.55 | F35: =+F34*(1+F11) -> 329032.05 | G35: =+G34*(1+G11) -> 368948.65 | H35: =+H34*(1+H11) -> 394412.98
C36: 1997 | D36: =+D35*(1+D12) -> 1332168.5 | E36: =+E35*(1+E12) -> 975929.45 | F36: =+F35*(1+F12) -> 384309.43 | G36: =+G35*(1+G12) -> 441262.59 | H36: =+H35*(1+H12) -> 526146.91
C37: 1998 | D37: =+D36*(1+D13) -> 1671871.5 | E37: =+E36*(1+E13) -> 1294082.5 | F37: =+F36*(1+F13) -> 376623.24 | G37: =+G36*(1+G13) -> 484947.58 | H37: =+H36*(1+H13) -> 676624.93
C38: 1999 | D38: =+D37*(1+D14) -> 2557963.4 | E38: =+E37*(1+E14) -> 1480430.3 | F38: =+F37*(1+F14) -> 512584.23 | G38: =+G37*(1+G14) -> 655164.19 | H38: =+H37*(1+H14) -> 818716.16
... C43: 2004 | D43: =+D42*(1+D19) -> 9644605.3 | E43: =+E42*(1+E19) -> 3310647.1 | F43: =+F42*(1+F19) -> 716721.4 | G43: =+G42*(1+G19) -> 652122.27 | H43: =+H42*(1+H19) -> 728988.55
C44: CAGR | D44: =+(D43/D26)^(0.0588235294117647)-1 -> 0.30834601 | E44: =+(E43/E26)^(0.0588235294117647)-1 -> 0.22858905 | F44: =+(F43/F26)^(0.0588235294117647)-1 -> 0.12283186 | G44: =+(G43/G26)^(0.0588235294117647)-1 -> 0.1166105 | H44: =+(H43/H26)^(0.0588235294117647)-1 -> 0.12395333
D47: (Imagen 18)
D48: CAGR | E48: Capital inicial | F48: Años | G48: Capital final
C49: FM All market | D49: =+D20 -> 0.30834601 | E49: 100000 | F49: 17 | G49: =E49*(1+D49)^F49 -> 9644605.3
C50: FM "selecta" | D50: =+E20 -> 0.22858905 | E50: 100000 | F50: 17 | G50: =E50*(1+D50)^F50 -> 3310647.1
C51: Media mercado all market | D51: =+F20 -> 0.12283186 | E51: 100000 | F51: 17 | G51: =E51*(1+D51)^F51 -> 716721.4
C52: Media mercado "selecta" | D52: =+G20 -> 0.1166105 | E52: 100000 | F52: 17 | G52: =E52*(1+D52)^F52 -> 652122.27
...

Sheet Cap3. Volatilidad
A1: Inicio
C4: MV | D4: PV
B5: 0 | C5: 100 | D5: 100 | I5: (Imagen 20)
B6: 1 | C6: 150 | D6: 110 | F6: =+C6/C5-1 -> 0.5 | G6: =+D6/D5-1 -> 0.1
B7: 2 | C7: 50 | D7: 105 | F7: =+C7/C6-1 -> -0.66666667 | G7: =+D7/D6-1 -> -0.045454545
B8: 3 | C8: 180 | D8: 115 | F8: =+C8/C7-1 -> 2.6 | G8: =+D8/D7-1 -> 0.095238095
B9: 4 | C9: 75 | D9: 110 | F9: =+C9/C8-1 -> -0.58333333 | G9: =+D9/D8-1 -> -0.043478261
B10: 5 | C10: 190 | D10: 120 | F10: =+C10/C9-1 -> 1.5333333 | G10: =+D10/D9-1 -> 0.090909091
B11: 6 | C11: 100 | D11: 140 | F11: =+C11/C10-1 -> -0.47368421 | G11: =+D11/D10-1 -> 0.16666667
B12: 7 | C12: 50 | D12: 150 | F12: =+C12/C11-1 -> -0.5 | G12: =+D12/D11-1 -> 0.071428571
B13: 8 | C13: 250 | D13: 130 | F13: =+C13/C12-1 -> 4 | G13: =+D13/D12-1 -> -0.13333333
B14: 9 | C14: 100 | D14: 160 | F14: =+C14/C13-1 -> -0.6 | G14: =+D14/D13-1 -> 0.23076923
B15: 10 | C15: 200 | D15: 145 | F15: =+C15/C14-1 -> 1 | G15: =+D15/D14-1 -> -0.09375
B16: 11 | C16: 200 | D16: 175 | F16: =+C16/C15-1 -> 0 | G16: =+D16/D15-1 -> 0.20689655
B17: 12 | C17: 100 | D17: 160 | F17: =+C17/C16-1 -> -0.5 | G17: =+D17/D16-1 -> -0.085714286
... B24: 19 | C24: 200 | D24: 200 | F24: =+C24/C23-1 -> 1 | G24: =+D24/D23-1 -> -0.024390244
F25: =+C25/C24-1 -> -1

Sheet Cap4. Cuenta de resultados
A1: Inicio
C3: (Imagen 25) | G3: (Imagen 26) | I3: (Imagen 30)
C4: 2022 | D4: 2023 | E4: 2024 | G4: Ventas (Sales) | I4: Criterio de devengo | J4: Criterio de Caja
B5: Ingresos trabajo | C5: 52300 | D5: =+C5*(1+3%) -> 53869 | E5: =+D5*(1+3%) -> 55485.07 | G5: (-) Gastos directos (Cost of Sales) | I5: Se genera el derecho o la obligación | J5: Se realiza el pago o el cobro del dinero
B6: (-) Casa | C6: =+SUM(C7:C10)*-1 -> -16200 | D6: =+SUM(D7:D10)*-1 -> -16860 | E6: =+SUM(E7:E10)*-1 -> -17376.24 | G6: (=) Beneficio Bruto (Gross profit) | I6: Ingresos y gastos | J6: Cobros y pagos
B7: Hipoteca | C7: =450*12 -> 5400 | D7: =475*12 -> 5700 | E7: =487*12 -> 5844 | G7: (-) Gastos Generales u Operativos (Operating Expenses) | I7: Se imputa en la Cuenta de Resultados | J7: Se registra en el Cuadro de Flujos de Efectivo
B8: Suministros | C8: =300*12 -> 3600 | D8: =+C8*(1+4%) -> 3744 | E8: =+D8*(1+4%) -> 3893.76 | G8: (=) Beneficio Operativo (Operating Income o EBIT)
B9: Comida | C9: =500*12 -> 6000 | D9: =+C9*(1+3%) -> 6180 | E9: =+D9*(1+3%) -> 6365.4 | G9: (+/-) Resultado financiero (Financial Result)
B10: Impuestos | C10: =100*12 -> 1200 | D10: =+C10*(1+3%) -> 1236 | E10: =+D10*(1+3%) -> 1273.08 | G10: (=) Beneficios antes de impuestos (Earnings Before Taxes o EBT)
B11: (-) Ocio | C11: =-200*12 -> -2400 | D11: =+C11*(1+3%) -> -2472 | E11: =+D11*(1+3%) -> -2546.16 | G11: (-) Impuestos (Taxes)
B12: (-) Hijos | C12: =+SUM(C13:C15)*-1 -> -16200 | D12: =+SUM(D13:D15)*-1 -> -16686 | E12: =+SUM(E13:E15)*-1 -> -17186.58 | G12: (=) Beneficio Neto (Net Profit)
B13: Colegio | C13: =1000*12 -> 12000 | D13: =+C13*(1+3%) -> 12360 | E13: =+D13*(1+3%) -> 12730.8
B14: Extraexcolares | C14: =300*12 -> 3600 | D14: =+C14*(1+3%) -> 3708 | E14: =+D14*(1+3%) -> 3819.24
B15: Ropa | C15: =50*12 -> 600 | D15: =+C15*(1+3%) -> 618 | E15: =+D15*(1+3%) -> 636.54
B16: (-) Otros | C16: -7530 | D16: =+C16*(1+4%) -> -7831.2 | E16: =+D16*(1+4%) -> -8144.448
B17: TOTAL GASTOS | C17: =+C16+C12+C11+C6 -> -42330 | D17: =+D16+D12+D11+D6 -> -43849.2 | E17: =+E16+E12+E11+E6 -> -45253.428
B18: AHORRO/PÉRDIDA | C18: =+C5+C17 -> 9970 | D18: =+D5+D17 -> 10019.8 | E18: =+E5+E17 -> 10231.642
B22: (Imagen 28) | G22: (Imagen 31)
C23: 2024 | D23: 2025 | G23: Ventas (Sales)
B24: Ventas | C24: 150000 | D24: 200000 | G24: (-) Gastos directos (Cost of Sales o Cost of Goods Sold)
B25: Gastos por la máquina | C25: -1000000 | D25: 0 | G25: (=) Beneficio Bruto (Gross profit)
B26: Beneficio neto | C26: (-850.000) | D26: 200000 | G26: (-) Gastos Generales u Operativos (Operating Expenses)
G27: (=) EBITDA
B28: (Imagen 29) | G28: (-) Depreciación y amortización
C29: 2024 | D29: 2025 | G29: (=) Beneficio Operativo (Operating Income o EBIT)
B30: Ventas | C30: 150000 | D30: 200000 | G30: (+/-) Resultado financiero (Financial Result)
B31: Gasto depreciación | C31: 50000 | D31: 50000 | G31: (=) Beneficios antes de impuestos (Earnings Before Taxes o EBT)
B32: Beneficio Neto | C32: 100000 | D32: 150000 | G32: (-) Impuestos (Taxes)
G33: (=) Beneficio Neto (Net Profit)

Sheet Cap4. Cuenta resultados Apple
A1: Inicio
B2: (Imagen 32)
C3: 2021 | D3: 2022 | E3: 2023 | F3: 2024 | G3: 2025
B4: Ventas (sales) | C4: 365817 | D4: 394328 | E4: 383285 | F4: 391035 | G4: 416161
B5: (-) Costes directos (Cost of sales) | C5: =-(192266+20715) -> -212981 | D5: =-(201471+22075) -> -223546 | E5: =-(189282+24855) -> -214137 | F5: -210352 | G5: -220960
B6: (=) Beneficio bruto (gross profit) | C6: =+C4+C5 -> 152836 | D6: =+D4+D5 -> 170782 | E6: =+E4+E5 -> 169148 | F6: =+F4+F5 -> 180683 | G6: =+G4+G5 -> 195201
B7: (-) Gastos operativos (OPEX) | C7: =-(21914+21973) -> -43887 | D7: =-(26251+25094) -> -51345 | E7: =-(29915+24932) -> -54847 | F7: =-26097-31370 -> -57467 | G7: =-34550-27601 -> -62151
B8: (=) Beneficio Operativo (EBIT) | C8: =+C6+C7 -> 108949 | D8: =+D6+D7 -> 119437 | E8: =+E6+E7 -> 114301 | F8: =+F6+F7 -> 123216 | G8: =+G6+G7 -> 133050
B9: (+/-) Gastos/Ingresos financieros | C9: 258 | D9: -334 | E9: -565 | F9: 269 | G9: -321
B10: (=) Beneficio Antes de impuestos (EBT) | C10: =+C8+C9 -> 109207 | D10: =+D8+D9 -> 119103 | E10: =+E8+E9 -> 113736 | F10: =+F8+F9 -> 123485 | G10: =+G8+G9 -> 132729
B11: (-) Impuestos (Taxes) | C11: -14527 | D11: -19300 | E11: -16741 | F11: -29749 | G11: -20719
B12: (=) Beneficio Neto (Net Profit) | C12: =+C10+C11 -> 94680 | D12: =+D10+D11 -> 99803 | E12: =+E10+E11 -> 96995 | F12: =+F10+F11 -> 93736 | G12: =+G10+G11 -> 112010

Sheet Cap4. Balance familia
A1: Inicio
B3: (Imagen 35)
B4: Balance de situación de una persona
B5: Activos (Assets) | D5: Neto + Pasivo
B6: Efectivo | C6: 20000 | D6: Neto (Equity) | E6: 125000
B7: Inversiones financieras | C7: 80000 | D7: Pasivos (Liabilities)
B8: Vivienda | C8: 200000 | D8: Préstamo bancario | E8: =+C13-(E6+E9) -> 192000
B9: Coche | C9: 15000 | D9: Préstamo familiar | E9: 15000
B10: Ordenadores | C10: 5000
B11: Libros | C11: 2000
B12: Muebles | C12: 10000
B13: Total activos | C13: =+SUM(C6:C12) -> 332000 | D13: Total Neto + Pasivos | E13: =+E6+E8+E9 -> 332000

Sheet Cap4. Balance Apple
A1: Inicio
B3: ACTIVOS | E3: PASIVO + NETO
B4: Caja y equivalentes | C4: =+'EEFF Apple y cálculo ratios'!G17 -> 35934 | E4: Neto | F4: =+'EEFF Apple y cálculo ratios'!G36 -> 73733
B5: Activos financieros de corto plazo | C5: =+'EEFF Apple y cálculo ratios'!G18 -> 18763
B6: Clientes | C6: =+'EEFF Apple y cálculo ratios'!G19 -> 39777 | E6: Proveedores | F6: =+'EEFF Apple y cálculo ratios'!G28 -> 69860
B7: Inventarios | C7: =+'EEFF Apple y cálculo ratios'!G20 -> 5718 | E7: Deuda a corto plazo | F7: =+'EEFF Apple y cálculo ratios'!G29 -> 20329
B8: Otros activos corrientes | C8: =+'EEFF Apple y cálculo ratios'!G21 -> 47765 | E8: Otros pasivos corrientes | F8: =+'EEFF Apple y cálculo ratios'!G30 -> 75442
B9: Total activos corrientes | C9: =+SUM(C4:C8) -> 147957 | E9: Total pasivos corrientes | F9: =+SUM(F5:F8) -> 165631
B10: Activos financieros de largo plazo | C10: =+'EEFF Apple y cálculo ratios'!G23 -> 77723 | E10: Deuda a largo plazo | F10: =+'EEFF Apple y cálculo ratios'!G32 -> 78328
B11: Propiedad, planta y equipamiento | C11: =+'EEFF Apple y cálculo ratios'!G24 -> 49834 | E11: Otros pasivos no corrientes | F11: =+'EEFF Apple y cálculo ratios'!G33 -> 41549
B12: Otros activos no corrientes | C12: =+'EEFF Apple y cálculo ratios'!G25 -> 83727 | E12: Total pasivos no corrientes | F12: =+SUM(F10:F11) -> 119877
B13: Total activos no corrientes | C13: =+SUM(C10:C12) -> 211284 | E13: TOTAL PASIVOS | F13: =+F12+F9 -> 285508
B14: TOTAL ACTIVOS | C14: =+C13+C9 -> 359241 | E14: TOTAL PASIVO + NETO | F14: =+F13+F4 -> 359241

Sheet Cap4. ROA Apple
A1: Inicio
B3: (Imagen 38)
C4: 2022 | D4: 2023 | E4: 2024 | F4: 2025
B5: ROA Apple | C5: =+'EEFF Apple y cálculo ratios'!D70 -> 0.28292441 | D5: =+'EEFF Apple y cálculo ratios'!E70 -> 0.27509835 | E5: =+'EEFF Apple y cálculo ratios'!F70 -> 0.25682503 | F5: =+'EEFF Apple y cálculo ratios'!G70 -> 0.31179626
B7: (Imagen 39)
C8: 2022 | D8: 2023 | E8: 2024 | F8: 2025
B9: Beneficio neto | C9: =+'EEFF Apple y cálculo ratios'!D74 -> 99803 | D9: =+'EEFF Apple y cálculo ratios'!E74 -> 96995 | E9: =+'EEFF Apple y cálculo ratios'!F74 -> 93736 | F9: =+'EEFF Apple y cálculo ratios'!G74 -> 112010
B10: Total activos | C10: =+'EEFF Apple y cálculo ratios'!D75 -> 352755 | D10: =+'EEFF Apple y cálculo ratios'!E75 -> 352583 | E10: =+'EEFF Apple y cálculo ratios'!F75 -> 364980 | F10: =+'EEFF Apple y cálculo ratios'!G75 -> 359241
B11: ROA Apple | D11: =+D9/AVERAGE(C10:D10) -> 0.27503126 | E11: =+E9/AVERAGE(D10:E10) -> 0.26126208 | F11: =+F9/AVERAGE(E10:F10) -> 0.30932547
B12: (Calculado con el total de activos promedio del año y el anterior)

Sheet Cap4. Goodwill The Best
A1: Inicio
B2: (Imagen 41)
B3: ACTIVOS "THE BEST" | E3: PASIVO y NETO "THE BEST"
B4: Caja y equivalentes | C4: 75000 | E4: Equity | F4: =+C12 -> 735000
B5: Clientes | C5: 100000
B6: Inventarios (pelotas) | C6: 250000
B7: Otros activos corrientes | C7: 35000
B8: Total activos corrientes | C8: =+SUM(C4:C7) -> 460000
B9: Tiendas | C9: 200000
B10: Otros activos no corrientes | C10: 75000
B11: Total activos no corrientes | C11: =+SUM(C9:C10) -> 275000
B12: TOTAL ACTIVOS | C12: =+C11+C8 -> 735000 | E12: Total Pasivo + neto | F12: =+F4 -> 735000
B14: (Imagen 42)
B15: ACTIVOS "LA CUCHILLA" | E15: PASIVO y NETO "LA CUCHILLA"
B16: Caja y equivalentes | C16: 3000000 | E16: Equity | F16: =+C24 -> 4100000
B17: Clientes | C17: 230000
B18: Inventarios (palas) | C18: 350000
B19: Otros activos corrientes | C19: 40000
B20: Total activos corrientes | C20: =+SUM(C16:C19) -> 3620000
B21: Tiendas | C21: 400000
B22: Otros activos no corrientes | C22: 80000
B23: Total activos no corrientes | C23: =+SUM(C21:C22) -> 480000
B24: TOTAL ACTIVOS | C24: =+C23+C20 -> 4100000 | E24: Total Pasivo + neto | F24: =+F16 -> 4100000
B26: (Imagen 43)
B27: ACTIVOS CONSOLIDADOS | E27: PASIVO y NETO CONSOLIDADO
B28: Caja y equivalentes | C28: =+C4+C16-2000000 -> 1075000 | E28: Equity | F28: =+C37 -> 4100000
B29: Clientes | C29: =+C5+C17 -> 330000
B30: Imventarios (palas) | C30: =+C6+C18 -> 600000
B31: Otros activos corrientes | C31: =+C7+C19 -> 75000 | K31: =+F37-C37 -> 0
B32: Total activos corrientes | C32: =+SUM(C28:C31) -> 2080000
B33: Tiendas | C33: =+C21+C9 -> 600000
B34: Goodwill | C34: =2000000-C12 -> 1265000
B35: Otros activos no corrientes | C35: =+C22+C10 -> 155000
B36: Total activos no corrientes | C36: =+SUM(C33:C35) -> 2020000
B37: TOTAL ACTIVOS | C37: =+C36+C32 -> 4100000 | E37: Total Pasivo + neto | F37: =+F28 -> 4100000

Sheet Cap4. WC Apple
A1: Inicio
B3: (Imagen 45)
B4: Cálculo del Working Capital de Apple | C4: 2021 | D4: 2022 | E4: 2023 | F4: 2024 | G4: 2025
B5: =+'EEFF Apple y cálculo ratios'!B82 -> Caja y equivalentes | D5: =+'EEFF Apple y cálculo ratios'!D82 -> 1182.3 | E5: =+'EEFF Apple y cálculo ratios'!E82 -> 1498.25 | F5: =+'EEFF Apple y cálculo ratios'!F82 -> 1497.15 | G5: =+'EEFF Apple y cálculo ratios'!G82 -> 1796.7
B6: =+'EEFF Apple y cálculo ratios'!B83 -> Clientes | D6: =+'EEFF Apple y cálculo ratios'!D83 -> 28184 | E6: =+'EEFF Apple y cálculo ratios'!E83 -> 29508 | F6: =+'EEFF Apple y cálculo ratios'!F83 -> 33410 | G6: =+'EEFF Apple y cálculo ratios'!G83 -> 39777
B7: =+'EEFF Apple y cálculo ratios'!B84 -> Inventarios | D7: =+'EEFF Apple y cálculo ratios'!D84 -> 4946 | E7: =+'EEFF Apple y cálculo ratios'!E84 -> 6331 | F7: =+'EEFF Apple y cálculo ratios'!F84 -> 7286 | G7: =+'EEFF Apple y cálculo ratios'!G84 -> 5718
B8: =+'EEFF Apple y cálculo ratios'!B85 -> Otros activos corrientes | D8: =+'EEFF Apple y cálculo ratios'!D85 -> 53971 | E8: =+'EEFF Apple y cálculo ratios'!E85 -> 46172 | F8: =+'EEFF Apple y cálculo ratios'!F85 -> 47120 | G8: =+'EEFF Apple y cálculo ratios'!G85 -> 47765
B9: Total activos corrientes productivos | D9: =+SUM(D5:D8) -> 88283.3 | E9: =+SUM(E5:E8) -> 83509.25 | F9: =+SUM(F5:F8) -> 89313.15 | G9: =+SUM(G5:G8) -> 95056.7
B10: =+'EEFF Apple y cálculo ratios'!B87 -> Proveedores | D10: =+'EEFF Apple y cálculo ratios'!D87 -> 64115 | E10: =+'EEFF Apple y cálculo ratios'!E87 -> 62611 | F10: =+'EEFF Apple y cálculo ratios'!F87 -> 68960 | G10: =+'EEFF Apple y cálculo ratios'!G87 -> 69860
B11: =+'EEFF Apple y cálculo ratios'!B88 -> Otros pasivos corrientes | D11: =+'EEFF Apple y cálculo ratios'!D88 -> 67094 | E11: =+'EEFF Apple y cálculo ratios'!E88 -> 65315 | F11: =+'EEFF Apple y cálculo ratios'!F88 -> 84921 | G11: =+'EEFF Apple y cálculo ratios'!G88 -> 75442
B12: Total pasivos corrientes sin intereses | D12: =+SUM(D10:D11) -> 131209 | E12: =+SUM(E10:E11) -> 127926 | F12: =+SUM(F10:F11) -> 153881 | G12: =+SUM(G10:G11) -> 145302
B13: WORKING CAPITAL | D13: =+D9-D12 -> -42925.7 | E13: =+E9-E12 -> -44416.75 | F13: =+F9-F12 -> -64567.85 | G13: =+G9-G12 -> -50245.3
B14: Variación WC | E14: =-(E13-D13) -> 1491.05 | F14: =-(F13-E13) -> 20151.1 | G14: =-(G13-F13) -> -14322.55
B16: (Imagen 46 e Imagen 47)
C17: 2021 | D17: 2022 | E17: 2023 | F17: 2024 | G17: 2025
B18: Ventas | D18: =+'EEFF Apple y cálculo ratios'!D95 -> 394328 | E18: =+'EEFF Apple y cálculo ratios'!E95 -> 383285 | F18: =+'EEFF Apple y cálculo ratios'!F95 -> 391035 | G18: =+'EEFF Apple y cálculo ratios'!G95 -> 416161
B19: Saldo clientes | D19: =+'EEFF Apple y cálculo ratios'!D96 -> 28184 | E19: =+'EEFF Apple y cálculo ratios'!E96 -> 29508 | F19: =+'EEFF Apple y cálculo ratios'!F96 -> 33410 | G19: =+'EEFF Apple y cálculo ratios'!G96 -> 39777
B20: Periodo medio cobro (PMC) | D20: =+(D19/D18)*365 -> 26.087825 | E20: =+(E19/E18)*365 -> 28.100291 | F20: =+(F19/F18)*365 -> 31.185572 | G20: =+(G19/G18)*365 -> 34.886991
B21: COGS | D21: =+'EEFF Apple y cálculo ratios'!D98 -> 223546 | E21: =+'EEFF Apple y cálculo ratios'!E98 -> 214137 | F21: =+'EEFF Apple y cálculo ratios'!F98 -> 210352 | G21: =+'EEFF Apple y cálculo ratios'!G98 -> 220960
B22: Saldo proveedores | D22: =+'EEFF Apple y cálculo ratios'!D99 -> 64115 | E22: =+'EEFF Apple y cálculo ratios'!E99 -> 62611 | F22: =+'EEFF Apple y cálculo ratios'!F99 -> 68960 | G22: =+'EEFF Apple y cálculo ratios'!G99 -> 69860
B23: Periodo medio de pago (PMP) | D23: =+(D22/D21)*365 -> 104.68528 | E23: =+(E22/E21)*365 -> 106.72147 | F23: =+(F22/F21)*365 -> 119.65848 | G23: =+(G22/G21)*365 -> 115.40052
B24: COGS | D24: =+'EEFF Apple y cálculo ratios'!D101 -> 223546 | E24: =+'EEFF Apple y cálculo ratios'!E101 -> 214137 | F24: =+'EEFF Apple y cálculo ratios'!F101 -> 210352 | G24: =+'EEFF Apple y cálculo ratios'!G101 -> 220960
B25: Saldo inventarios | D25: =+'EEFF Apple y cálculo ratios'!D102 -> 4946 | E25: =+'EEFF Apple y cálculo ratios'!E102 -> 6331 | F25: =+'EEFF Apple y cálculo ratios'!F102 -> 7286 | G25: =+'EEFF Apple y cálculo ratios'!G102 -> 5718
B26: Periodo medio de rotación (PMR) | D26: =+(D25/D24)*365 -> 8.0756981 | E26: =+(E25/E24)*365 -> 10.791292 | F26: =+(F25/F24)*365 -> 12.642571 | G26: =+(G25/G24)*365 -> 9.4454652

Sheet Cap4. ROC Greenblatt Apple
A1: Inicio
B4: (Imagen 49)
B5: Capital Empleado Apple | C5: 2022 | D5: 2023 | E5: 2024 | F5: 2025
B6: Total Activos No corrientes | C6: =+'EEFF Apple y cálculo ratios'!D109 -> 217350 | D6: =+'EEFF Apple y cálculo ratios'!E109 -> 209017 | E6: =+'EEFF Apple y cálculo ratios'!F109 -> 211993 | F6: =+'EEFF Apple y cálculo ratios'!G109 -> 211284
B7: Activos financieros de largo plazo | C7: =+'EEFF Apple y cálculo ratios'!D110 -> 120805 | D7: =+'EEFF Apple y cálculo ratios'!E110 -> 100544 | E7: =+'EEFF Apple y cálculo ratios'!F110 -> 91479 | F7: =+'EEFF Apple y cálculo ratios'!G110 -> 77723
B8: Propiedad, planta y equipamiento | C8: =+'EEFF Apple y cálculo ratios'!D111 -> 42117 | D8: =+'EEFF Apple y cálculo ratios'!E111 -> 43715 | E8: =+'EEFF Apple y cálculo ratios'!F111 -> 45680 | F8: =+'EEFF Apple y cálculo ratios'!G111 -> 49834
B9: Otros activos no corrientes | C9: =+'EEFF Apple y cálculo ratios'!D112 -> 54428 | D9: =+'EEFF Apple y cálculo ratios'!E112 -> 64758 | E9: =+'EEFF Apple y cálculo ratios'!F112 -> 74834 | F9: =+'EEFF Apple y cálculo ratios'!G112 -> 83727
B10: Net Working Capital | C10: =+'EEFF Apple y cálculo ratios'!D113 -> -42925.7 | D10: =+'EEFF Apple y cálculo ratios'!E113 -> -44416.75 | E10: =+'EEFF Apple y cálculo ratios'!F113 -> -64567.85 | F10: =+'EEFF Apple y cálculo ratios'!G113 -> -50245.3
B11: Capital Empleado | C11: =+'EEFF Apple y cálculo ratios'!D114 -> 174424.3 | D11: =+'EEFF Apple y cálculo ratios'!E114 -> 164600.25 | E11: =+'EEFF Apple y cálculo ratios'!F114 -> 147425.15 | F11: =+'EEFF Apple y cálculo ratios'!G114 -> 161038.7
B13: EBIT | C13: =+'EEFF Apple y cálculo ratios'!D116 -> 119437 | D13: =+'EEFF Apple y cálculo ratios'!E116 -> 114301 | E13: =+'EEFF Apple y cálculo ratios'!F116 -> 123216 | F13: =+'EEFF Apple y cálculo ratios'!G116 -> 133050
B15: ROC de Greenblatt | C15: =+C13/C11 -> 0.68474977 | D15: =+D13/D11 -> 0.69441571 | E15: =+E13/E11 -> 0.83578684 | F15: =+F13/F11 -> 0.82619892
C19: 2022 | D19: 2023 | E19: 2024 | F19: 2025
B20: ROC de Greenblatt | C20: =+C15 -> 0.68474977 | D20: =+D15 -> 0.69441571 | E20: =+E15 -> 0.83578684 | F20: =+F15 -> 0.82619892
B21: ROA Apple | C21: =+'EEFF Apple y cálculo ratios'!D70 -> 0.28292441 | D21: =+'EEFF Apple y cálculo ratios'!E70 -> 0.27509835 | E21: =+'EEFF Apple y cálculo ratios'!F70 -> 0.25682503 | F21: =+'EEFF Apple y cálculo ratios'!G70 -> 0.31179626

Sheet Cap4. Gastos en I+D (7 MAG)
A1: Inicio
B2: Research And Development Expenses | C2: 2015 | D2: 2016 | E2: 2017 | F2: 2018 | G2: 2019 | H2: 2020 | I2: 2021 | J2: 2022 | K2: 2023 | L2: 2024 | N2: CAGR
B3: AAPL | C3: {=+_xldudf_WISE(B3:B9,$B$2,C2:L2)} -> 8067000000 | D3: 10045000000 | E3: 11581000000 | F3: 14236000000 | G3: 16217000000 | H3: 18752000000 | I3: 21914000000 | J3: 26251000000 | K3: 29915000000 | L3: 31370000000 | N3: =+(K3/C3)^(1/8)-1 -> 0.17800496
B4: MSFT | C4: 12046000000 | D4: 11988000000 | E4: 13037000000 | F4: 14726000000 | G4: 16876000000 | H4: 19269000000 | I4: 20716000000 | J4: 24512000000 | K4: 27195000000 | L4: 29510000000 | N4: =+(K4/C4)^(1/8)-1 -> 0.10714824
B5: META | C5: 4816000000 | D5: 5919000000 | E5: 7754000000 | F5: 10273000000 | G5: 13600000000 | H5: 18447000000 | I5: 24655000000 | J5: 35338000000 | K5: 38483000000 | L5: 43873000000 | N5: =+(K5/C5)^(1/8)-1 -> 0.29665012
B6: AMZN | C6: 12540000000 | D6: 16085000000 | E6: 22620000000 | F6: 28837000000 | G6: 35931000000 | H6: 42740000000 | I6: 56052000000 | J6: 73213000000 | K6: 85622000000 | L6: 88544000000 | N6: =+(K6/C6)^(1/8)-1 -> 0.27141104
B7: GOOG | C7: 12282000000 | D7: 13948000000 | E7: 16625000000 | F7: 21419000000 | G7: 26018000000 | H7: 27573000000 | I7: 31562000000 | J7: 39500000000 | K7: 45427000000 | L7: 49326000000 | N7: =+(K7/C7)^(1/8)-1 -> 0.17762121
B8: NVDA | C8: 1360000000 | D8: 1331000000 | E8: 1463000000 | F8: 1797000000 | G8: 2376000000 | H8: 2829000000 | I8: 3924000000 | J8: 5268000000 | K8: 7339000000 | L8: 8675000000 | N8: =+(K8/C8)^(1/8)-1 -> 0.23456013
B9: TSLA | C9: 717900000 | D9: 834408000 | E9: 1378000000 | F9: 1460370000 | G9: 1343000000 | H9: 1491000000 | I9: 2593000000 | J9: 3075000000 | K9: 3969000000 | L9: 4540000000 | N9: =+(K9/C9)^(1/8)-1 -> 0.23830362
C10: =+SUM(C3:C9) -> 51828900000 | D10: =+SUM(D3:D9) -> 60150408000 | E10: =+SUM(E3:E9) -> 74458000000 | F10: =+SUM(F3:F9) -> 92748370000 | G10: =+SUM(G3:G9) -> 112361000000 | H10: =+SUM(H3:H9) -> 131101000000 | I10: =+SUM(I3:I9) -> 161416000000 | J10: =+SUM(J3:J9) -> 207157000000 | ... L10: =+SUM(L3:L9) -> 255838000000
B12: Revenue | C12: 2015 | D12: 2016 | E12: 2017 | F12: 2018 | G12: 2019 | H12: 2020 | I12: 2021 | J12: 2022 | K12: 2023 | L12: 2024 | N12: CAGR
B13: AAPL | C13: {=+_xldudf_WISE(B13:B19,$B$12,C12:L12)} -> 233715000000 | D13: 215639000000 | E13: 229234000000 | F13: 265595000000 | G13: 260174000000 | H13: 274515000000 | I13: 365817000000 | J13: 394328000000 | K13: 383285000000 | L13: 391035000000 | N13: =+(K13/C13)^(1/8)-1 -> 0.063786329
B14: MSFT | C14: 93580000000 | D14: 91154000000 | E14: 96571000000 | F14: 110360000000 | G14: 125843000000 | H14: 143015000000 | I14: 168088000000 | J14: 198270000000 | K14: 211915000000 | L14: 245122000000 | N14: =+(K14/C14)^(1/8)-1 -> 0.10757293
B15: META | C15: 17928000000 | D15: 27638000000 | E15: 40653000000 | F15: 55838000000 | G15: 70697000000 | H15: 85965000000 | I15: 117929000000 | J15: 116609000000 | K15: 134902000000 | L15: 164501000000 | N15: =+(K15/C15)^(1/8)-1 -> 0.28694746
B16: AMZN | C16: 107006000000 | D16: 135987000000 | E16: 177866000000 | F16: 232887000000 | G16: 280522000000 | H16: 386064000000 | I16: 469822000000 | J16: 513983000000 | K16: 574785000000 | L16: 637959000000 | N16: =+(K16/C16)^(1/8)-1 -> 0.23384942
B17: GOOG | C17: 74989000000 | D17: 90272000000 | E17: 110855000000 | F17: 136819000000 | G17: 161857000000 | H17: 182527000000 | I17: 257637000000 | J17: 282836000000 | K17: 307394000000 | L17: 350018000000 | N17: =+(K17/C17)^(1/8)-1 -> 0.19285383
B18: NVDA | C18: 4682000000 | D18: 5010000000 | E18: 6910000000 | F18: 9714000000 | G18: 11716000000 | H18: 10918000000 | I18: 16675000000 | J18: 26914000000 | K18: 26974000000 | L18: 60922000000 | N18: =+(K18/C18)^(1/8)-1 -> 0.24469872
B19: TSLA | C19: 4046025000 | D19: 7000132000 | E19: 11759000000 | F19: 21461268000 | G19: 24578000000 | H19: 31536000000 | I19: 53823000000 | J19: 81462000000 | K19: 96773000000 | L19: 97690000000 | N19: =+(K19/C19)^(1/8)-1 -> 0.48710182
C20: =+SUM(C13:C19) -> 535946025000 | D20: =+SUM(D13:D19) -> 572700132000 | E20: =+SUM(E13:E19) -> 673848000000 | F20: =+SUM(F13:F19) -> 832674268000 | G20: =+SUM(G13:G19) -> 935387000000 | H20: =+SUM(H13:H19) -> 1114540000000 | I20: =+SUM(I13:I19) -> 1449791000000 | J20: =+SUM(J13:J19) -> 1614402000000 | ... L20: =+SUM(L13:L19) -> 1947247000000
B22: % R&D/revenue | C22: 2015 | D22: 2016 | E22: 2017 | F22: 2018 | G22: 2019 | H22: 2020 | I22: 2021 | J22: 2022 | K22: 2023 | L22: TTM
B23: AAPL | C23: =+C3/C13 -> 0.034516398 | D23: =+D3/D13 -> 0.046582483 | E23: =+E3/E13 -> 0.050520429 | F23: =+F3/F13 -> 0.053600407 | G23: =+G3/G13 -> 0.062331363 | H23: =+H3/H13 -> 0.068309564 | I23: =+I3/I13 -> 0.059904269 | J23: =+J3/J13 -> 0.066571484 | K23: =+K3/K13 -> 0.078048971 | L23: =+F33 -> 0.088689134
B24: MSFT | C24: =+C4/C14 -> 0.12872409 | D24: =+D4/D14 -> 0.1315137 | E24: =+E4/E14 -> 0.13499912 | F24: =+F4/F14 -> 0.13343603 | G24: =+G4/G14 -> 0.13410361 | H24: =+H4/H14 -> 0.13473412 | I24: =+I4/I14 -> 0.12324497 | J24: =+J4/J14 -> 0.12362939 | K24: =+K4/K14 -> 0.12832975 | L24: =+F34 -> 0.10806446
B25: META | C25: =+C5/C15 -> 0.26863008 | D25: =+D5/D15 -> 0.21416166 | E25: =+E5/E15 -> 0.19073623 | F25: =+F5/F15 -> 0.18397865 | G25: =+G5/G15 -> 0.19237026 | H25: =+H5/H15 -> 0.21458733 | I25: =+I5/I15 -> 0.20906647 | J25: =+J5/J15 -> 0.30304693 | K25: =+K5/K15 -> 0.28526634 | L25: =+F35 -> 0.29270619
B26: AMZN | C26: =+C6/C16 -> 0.11718969 | D26: =+D6/D16 -> 0.11828337 | E26: =+E6/E16 -> 0.12717439 | F26: =+F6/F16 -> 0.123824 | G26: =+G6/G16 -> 0.12808621 | H26: =+H6/H16 -> 0.11070703 | I26: =+I6/I16 -> 0.11930476 | J26: =+J6/J16 -> 0.14244245 | K26: =+K6/K16 -> 0.14896353 | L26: =+F36 -> 0.15495116
B27: GOOG | C27: =+C7/C17 -> 0.16378402 | D27: =+D7/D17 -> 0.15451081 | E27: =+E7/E17 -> 0.14997068 | F27: =+F7/F17 -> 0.15654989 | G27: =+G7/G17 -> 0.16074683 | H27: =+H7/H17 -> 0.15106258 | I27: =+I7/I17 -> 0.1225057 | J27: =+J7/J17 -> 0.1396569 | K27: =+K7/K17 -> 0.14778102 | L27: =+F37 -> 0.15278797
B28: NVDA | C28: =+C8/C18 -> 0.29047416 | D28: =+D8/D18 -> 0.26566866 | E28: =+E8/E18 -> 0.21172214 | F28: =+F8/F18 -> 0.18499074 | G28: =+G8/G18 -> 0.20279959 | H28: =+H8/H18 -> 0.25911339 | I28: =+I8/I18 -> 0.23532234 | J28: =+J8/J18 -> 0.19573456 | K28: =+K8/K18 -> 0.27207681 | L28: =+F38 -> 0.082168598
B29: TSLA | C29: =+C9/C19 -> 0.17743341 | D29: =+D9/D19 -> 0.1191989 | E29: =+E9/E19 -> 0.11718684 | F29: =+F9/F19 -> 0.068046772 | G29: =+G9/G19 -> 0.054642363 | H29: =+H9/H19 -> 0.0472793 | I29: =+I9/I19 -> 0.04817643 | J29: =+J9/J19 -> 0.037747661 | K29: =+K9/K19 -> 0.041013506 | L29: =+F39 -> 0.070985605
D32: Revenue | E32: Research And Development Expenses | F32: % R&D/revenue
B33: Apple | C33: AAPL | D33: {=+_xldudf_WISE($C33,D$32,"TTM")} -> 451442000000 | E33: {=+_xldudf_WISE($C33,E$32,"TTM")} -> 40038000000 | F33: =+E33/D33 -> 0.088689134
B34: Microsoft | C34: MSFT | D34: {=+_xldudf_WISE($C34,D$32,"TTM")} -> 318273000000 | E34: {=+_xldudf_WISE($C34,E$32,"TTM")} -> 34394000000 | F34: =+E34/D34 -> 0.10806446
B35: Meta | C35: META | D35: {=+_xldudf_WISE($C35,D$32,"TTM")} -> 214963000000 | E35: {=+_xldudf_WISE($C35,E$32,"TTM")} -> 62921000000 | F35: =+E35/D35 -> 0.29270619
B36: Amazon | C36: AMZN | D36: {=+_xldudf_WISE($C36,D$32,"TTM")} -> 742776000000 | E36: {=+_xldudf_WISE($C36,E$32,"TTM")} -> 115094000000 | F36: =+E36/D36 -> 0.15495116
B37: Alphabet | C37: GOOG | D37: {=+_xldudf_WISE($C37,D$32,"TTM")} -> 422566000000 | E37: {=+_xldudf_WISE($C37,E$32,"TTM")} -> 64563000000 | F37: =+E37/D37 -> 0.15278797
B38: NVIDIA | C38: NVDA | D38: {=+_xldudf_WISE($C38,D$32,"TTM")} -> 253491000000 | E38: {=+_xldudf_WISE($C38,E$32,"TTM")} -> 20829000000 | F38: =+E38/D38 -> 0.082168598
B39: Tesla | C39: TSLA | D39: {=+_xldudf_WISE($C39,D$32,"TTM")} -> 97879000000 | E39: {=+_xldudf_WISE($C39,E$32,"TTM")} -> 6948000000 | F39: =+E39/D39 -> 0.070985605
B42: Research And Development Expenses | C42: 2015 | D42: 2016 | E42: 2017 | F42: 2018 | G42: 2019 | H42: 2020 | I42: 2021 | J42: 2022 | K42: 2023 | L42: 2024
B43: AAPL | C43: 8067000000 | D43: 10045000000 | E43: 11581000000 | F43: 14236000000 | G43: 16217000000 | H43: 18752000000 | I43: 21914000000 | J43: 26251000000 | K43: 29915000000 | L43: 31370000000
B44: MSFT | C44: 12046000000 | D44: 11988000000 | E44: 13037000000 | F44: 14726000000 | G44: 16876000000 | H44: 19269000000 | I44: 20716000000 | J44: 24512000000 | K44: 27195000000 | L44: 29510000000
B45: META | C45: 4816000000 | D45: 5919000000 | E45: 7754000000 | F45: 10273000000 | G45: 13600000000 | H45: 18447000000 | I45: 24655000000 | J45: 35338000000 | K45: 38483000000 | L45: 43873000000
B46: AMZN | C46: 12540000000 | D46: 16085000000 | E46: 22620000000 | F46: 28837000000 | G46: 35931000000 | H46: 42740000000 | I46: 56052000000 | J46: 73213000000 | K46: 85622000000 | L46: 88544000000
...

Sheet Cap4. Ajustes I+D Apple
A1: Inicio
B4: (Imagen 52)
D5: Amortización
C6: Total gastos I+D | D6: 2021 | E6: 2022 | F6: 2023 | G6: 2024 | H6: 2025
B7: R&D 2021 | C7: =-'Capital Allocation Apple'!I7 -> 21914 | D7: =+$C$7/$C$12 -> 7304.6667 | E7: =+$C$7/$C$12 -> 7304.6667 | F7: =+$C$7/$C$12 -> 7304.6667 | G7: 0 | H7: 0
B8: R&D 2022 | C8: =-'Capital Allocation Apple'!J7 -> 26251 | E8: =+$C$8/$C$12 -> 8750.3333 | F8: =+$C$8/$C$12 -> 8750.3333 | G8: =+$C$8/$C$12 -> 8750.3333 | H8: 0
B9: R&D 2023 | C9: =-'Capital Allocation Apple'!K7 -> 29915 | F9: =+$C$9/$C$12 -> 9971.6667 | G9: =+$C$9/$C$12 -> 9971.6667 | H9: =+G9 -> 9971.6667
B10: R&D 2024 | C10: =-'Capital Allocation Apple'!L7 -> 31370 | G10: =+$C$10/$C$12 -> 10456.667 | H10: =+G10 -> 10456.667
B11: R&D 2025 | C11: =-'Capital Allocation Apple'!M7 -> 34550 | H11: =+C11/3 -> 11516.667
B12: Años vida útil | C12: 3 | G12: Total gasto amortización 2025 | H12: =+SUM(H7:H11) -> 31945
B14: (Imagen 53)
C15: 2023 | D15: 2024 | E15: 2025
B16: EBIT oficial | C16: =+'EEFF Apple y cálculo ratios'!E8 -> 114301 | D16: =+'EEFF Apple y cálculo ratios'!F8 -> 123216 | E16: =+'EEFF Apple y cálculo ratios'!G8 -> 133050
B17: (+) gastos I&D oficial | C17: =+C9 -> 29915 | D17: =+C10 -> 31370 | E17: =+C11 -> 34550
B18: (-) gasto amortización I&D | C18: =-SUM(F7:F11) -> -26026.667 | D18: =-SUM(G7:G11) -> -29178.667 | E18: =-H12 -> -31945 | G18: =+E17+E18 -> 2605
B19: EBIT corregido | C19: =+SUM(C16:C18) -> 118189.33 | D19: =+SUM(D16:D18) -> 125407.33 | E19: =+SUM(E16:E18) -> 135655
I20: (Imagen 54)
D22: Amortización | I22: Amortización acumulada | J22: Balance 2025 | L22: Amortización acum 2023 | M22: Balance 2023 | N22: Amortización acum 2024 | O22: Balance 2024
C23: Activación inicial | D23: 2021 | E23: 2022 | F23: 2023 | G23: 2024 | H23: 2025 | I23: TOTAL
B24: 2021 | C24: =+C7 -> 21914 | D24: =+$C24/$C$12 -> 7304.6667 | E24: =+$C24/$C$12 -> 7304.6667 | F24: =+$C24/$C$12 -> 7304.6667 | G24: 0 | H24: 0 | I24: =+SUM(D24:H24) -> 21914 | J24: =+C24-I24 -> 0 | L24: =+SUM(D24:F24) -> 21914 | M24: =+C24-L24 -> 0
B25: 2022 | C25: =+C8 -> 26251 | E25: =+$C25/$C$12 -> 8750.3333 | F25: =+$C25/$C$12 -> 8750.3333 | G25: =+$C25/$C$12 -> 8750.3333 | H25: 0 | I25: =+SUM(D25:H25) -> 26251 | J25: =+C25-I25 -> 0 | L25: =+SUM(D25:F25) -> 17500.667 | M25: =+C25-L25 -> 8750.3333
B26: 2023 | C26: =+C9 -> 29915 | F26: =+$C26/$C$12 -> 9971.6667 | G26: =+$C26/$C$12 -> 9971.6667 | H26: =+G26 -> 9971.6667 | I26: =+SUM(D26:H26) -> 29915 | J26: =+C26-I26 -> 0 | L26: =+SUM(D26:F26) -> 9971.6667 | M26: =+C26-L26 -> 19943.333 | N26: =+SUM(E26:G26) -> 19943.333 | O26: =+C26-N26 -> 9971.6667
B27: 2024 | C27: =+C10 -> 31370 | G27: =+$C$27/$C$12 -> 10456.667 | H27: =+G27 -> 10456.667 | I27: =+SUM(D27:H27) -> 20913.333 | J27: =+C27-I27 -> 10456.667 | N27: =+SUM(E27:G27) -> 10456.667 | O27: =+C27-N27 -> 20913.333
B28: 2025 | C28: =+C11 -> 34550 | H28: =+C28/3 -> 11516.667 | I28: =+SUM(D28:H28) -> 11516.667 | J28: =+C28-I28 -> 23033.333
B29: Total Balance | C29: =+SUM(C24:C28) -> 144000 | I29: =+SUM(I24:I28) -> 110510 | J29: =+SUM(J24:J28) -> 33490 | M29: =+SUM(M24:M28) -> 28693.667 | O29: =+SUM(O24:O28) -> 30885
B30: Amortización acumulada | C30: =+SUM(I24:I28) -> 110510
B31: Ajuste balance 2025 | C31: =+C29-C30 -> 33490
B33: (Imagen 56)
C34: 2025 oficial | D34: 2025 corregido
B35: Caja y equivalentes | C35: =+#REF! -> #REF! | D35: =+C35 -> #REF!
B36: Activos financieros de corto plazo | C36: =+#REF! -> #REF! | D36: =+C36 -> #REF!
B37: Clientes | C37: =+#REF! -> #REF! | D37: =+C37 -> #REF!
B38: Inventarios | C38: =+#REF! -> #REF! | D38: =+C38 -> #REF!
B39: Otros activos corrientes | C39: =+#REF! -> #REF! | D39: =+C39 -> #REF!
B40: Total activos corrientes | C40: =+SUM(C35:C39) -> #REF! | D40: =+C40 -> #REF!
B41: Activos financieros de largo plazo | C41: =+#REF! -> #REF! | D41: =+C41 -> #REF!
B42: Propiedad, planta y equipamiento | C42: =+#REF! -> #REF! | D42: =+C42 -> #REF!
B43: Activos de Investigación y Desarrollo | D43: =+C31 -> 33490
B44: Otros activos no corrientes | C44: =+#REF! -> #REF! | D44: =+C44 -> #REF!
B45: Total activos no corrientes | C45: =+SUM(C41:C44) -> #REF! | D45: =+SUM(D41:D44) -> #REF!
...

Sheet Cap4. ROCE Apple
A1: Inicio
B3: (Imagen 58)
B4: Cálculo del ROCE Apple | C4: 2023 | D4: 2024 | E4: 2025
B5: EBIT corregido | C5: =+'EEFF Apple y cálculo ratios'!E147 -> 118189.33 | D5: =+'EEFF Apple y cálculo ratios'!F147 -> 125407.33 | E5: =+'EEFF Apple y cálculo ratios'!G147 -> 135655
B6: (-) Impuesto oficial en 10-K | C6: =+'EEFF Apple y cálculo ratios'!E148 -> -16741 | D6: =+'EEFF Apple y cálculo ratios'!F148 -> -29749 | E6: =+'EEFF Apple y cálculo ratios'!G148 -> -20719
B7: (-) Corrección de los impuestos | C7: =+'EEFF Apple y cálculo ratios'!E149 -> -816.55 | D7: =+'EEFF Apple y cálculo ratios'!F149 -> -460.18 | E7: =+'EEFF Apple y cálculo ratios'!G149 -> -547.05
B8: NOPAT | C8: =+SUM(C5:C7) -> 100631.78 | D8: =+SUM(D5:D7) -> 95198.153 | E8: =+SUM(E5:E7) -> 114388.95
B10: Activos financieros de largo plazo | C10: 0 | D10: 0 | E10: 0
B11: Propiedad, planta y equipamiento | C11: =+'EEFF Apple y cálculo ratios'!E153 -> 43715 | D11: =+'EEFF Apple y cálculo ratios'!F153 -> 45680 | E11: =+'EEFF Apple y cálculo ratios'!G153 -> 49834
B12: Activos de Investigación y Desarrollo | C12: =+'EEFF Apple y cálculo ratios'!E154 -> 28693.667 | D12: =+'EEFF Apple y cálculo ratios'!F154 -> 30885 | E12: =+'EEFF Apple y cálculo ratios'!G154 -> 33490
B13: Otros activos no corrientes | C13: =+'EEFF Apple y cálculo ratios'!E155 -> 64758 | D13: =+'EEFF Apple y cálculo ratios'!F155 -> 74834 | E13: =+'EEFF Apple y cálculo ratios'!G155 -> 83727
B14: Total Activos NO corrientes | C14: =+SUM(C10:C13) -> 137166.67 | D14: =+SUM(D10:D13) -> 151399 | E14: =+SUM(E10:E13) -> 167051
B16: Net Working Capital | C16: =+'EEFF Apple y cálculo ratios'!E158 -> -44416.75 | D16: =+'EEFF Apple y cálculo ratios'!F158 -> -64567.85 | E16: =+'EEFF Apple y cálculo ratios'!G158 -> -50245.3
B17: Capital Empleado | C17: =+C16+C14 -> 92749.917 | D17: =+D16+D14 -> 86831.15 | E17: =+E16+E14 -> 116805.7
B19: ROCE | C19: =C8/C17 -> 1.0849798 | D19: =D8/D17 -> 1.0963595 | E19: =E8/E17 -> 0.97930966

Sheet Cap4. ROCE Vs ROIC Apple
A1: Inicio
B2: (Imagen 65)
B4: Cálculo del ROCE Apple | C4: 2023 | D4: 2024 | E4: 2025 | G4: Cálculo del ROIC Apple | H4: 2023 | I4: 2024 | J4: 2025
B5: EBIT corregido | C5: =+'EEFF Apple y cálculo ratios'!E147 -> 118189.33 | D5: =+'EEFF Apple y cálculo ratios'!F147 -> 125407.33 | E5: =+'EEFF Apple y cálculo ratios'!G147 -> 135655 | G5: EBIT corregido | H5: =+'EEFF Apple y cálculo ratios'!E165 -> 118189.33 | I5: =+'EEFF Apple y cálculo ratios'!F165 -> 125407.33 | J5: =+'EEFF Apple y cálculo ratios'!G165 -> 135655
B6: (-) Impuesto oficial en 10-K | C6: =+'EEFF Apple y cálculo ratios'!E148 -> -16741 | D6: =+'EEFF Apple y cálculo ratios'!F148 -> -29749 | E6: =+'EEFF Apple y cálculo ratios'!G148 -> -20719 | G6: (-) Taxes | H6: =+'EEFF Apple y cálculo ratios'!E166 -> -17557.55 | I6: =+'EEFF Apple y cálculo ratios'!F166 -> -30209.18 | J6: =+'EEFF Apple y cálculo ratios'!G166 -> -21266.05
B7: (-) Corrección de los impuestos | C7: =+'EEFF Apple y cálculo ratios'!E149 -> -816.55 | D7: =+'EEFF Apple y cálculo ratios'!F149 -> -460.18 | E7: =+'EEFF Apple y cálculo ratios'!G149 -> -547.05 | G7: NOPAT | H7: =+SUM(H5:H6) -> 100631.78 | I7: =+SUM(I5:I6) -> 95198.153 | J7: =+SUM(J5:J6) -> 114388.95
B8: NOPAT | C8: =+SUM(C5:C7) -> 100631.78 | D8: =+SUM(D5:D7) -> 95198.153 | E8: =+SUM(E5:E7) -> 114388.95
G9: Equity | H9: =+'EEFF Apple y cálculo ratios'!E169 -> 62146 | I9: =+'EEFF Apple y cálculo ratios'!F169 -> 56950 | J9: =+'EEFF Apple y cálculo ratios'!G169 -> 73733
B10: Activos financieros de largo plazo | C10: =+'EEFF Apple y cálculo ratios'!E152 -> 0 | D10: =+'EEFF Apple y cálculo ratios'!F152 -> 0 | E10: =+'EEFF Apple y cálculo ratios'!G152 -> 0 | G10: =+'EEFF Apple y cálculo ratios'!B170 -> Deuda a corto plazo | H10: =+'EEFF Apple y cálculo ratios'!E170 -> 17382 | I10: =+'EEFF Apple y cálculo ratios'!F170 -> 22511 | J10: =+'EEFF Apple y cálculo ratios'!G170 -> 20329
B11: Propiedad, planta y equipamiento | C11: =+'EEFF Apple y cálculo ratios'!E153 -> 43715 | D11: =+'EEFF Apple y cálculo ratios'!F153 -> 45680 | E11: =+'EEFF Apple y cálculo ratios'!G153 -> 49834 | G11: =+'EEFF Apple y cálculo ratios'!B171 -> Deuda a largo plazo | H11: =+'EEFF Apple y cálculo ratios'!E171 -> 95281 | I11: =+'EEFF Apple y cálculo ratios'!F171 -> 96548 | J11: =+'EEFF Apple y cálculo ratios'!G171 -> 78328
B12: Activos de Investigación y Desarrollo | C12: =+'EEFF Apple y cálculo ratios'!E154 -> 28693.667 | D12: =+'EEFF Apple y cálculo ratios'!F154 -> 30885 | E12: =+'EEFF Apple y cálculo ratios'!G154 -> 33490 | G12: =+'EEFF Apple y cálculo ratios'!B172 -> (-) Caja ociosa + inversiones financieras no operativas | H12: =+'EEFF Apple y cálculo ratios'!E172 -> -160600.75 | I12: =+'EEFF Apple y cálculo ratios'!F172 -> -155152.85 | J12: =+'EEFF Apple y cálculo ratios'!G172 -> -130623.3
B13: Otros activos no corrientes | C13: =+'EEFF Apple y cálculo ratios'!E155 -> 64758 | D13: =+'EEFF Apple y cálculo ratios'!F155 -> 74834 | E13: =+'EEFF Apple y cálculo ratios'!G155 -> 83727 | G13: Deuda neta | H13: =+'EEFF Apple y cálculo ratios'!E173 -> -47937.75 | I13: =+'EEFF Apple y cálculo ratios'!F173 -> -36093.85 | J13: =+'EEFF Apple y cálculo ratios'!G173 -> -31966.3
B14: Total Activos NO corrientes | C14: =+SUM(C10:C13) -> 137166.67 | D14: =+SUM(D10:D13) -> 151399 | E14: =+SUM(E10:E13) -> 167051 | G14: Pasivos no corrientes | H14: =+'EEFF Apple y cálculo ratios'!E174 -> 49848 | I14: =+'EEFF Apple y cálculo ratios'!F174 -> 35090 | J14: =+'EEFF Apple y cálculo ratios'!G174 -> 41549
G15: Pasivo R&D | H15: =+'EEFF Apple y cálculo ratios'!E175 -> 28693.667 | I15: =+'EEFF Apple y cálculo ratios'!F175 -> 30885 | J15: =+'EEFF Apple y cálculo ratios'!G175 -> 33490
B16: Net Working Capital | C16: =+'EEFF Apple y cálculo ratios'!E158 -> -44416.75 | D16: =+'EEFF Apple y cálculo ratios'!F158 -> -64567.85 | E16: =+'EEFF Apple y cálculo ratios'!G158 -> -50245.3
B17: Capital Empleado | C17: =+C16+C14 -> 92749.917 | D17: =+D16+D14 -> 86831.15 | E17: =+E16+E14 -> 116805.7 | G17: Capital Invertido | H17: =+H13+H9+H14+H15 -> 92749.917 | I17: =+I13+I9+I14+I15 -> 86831.15 | J17: =+J13+J9+J14+J15 -> 116805.7
B19: ROCE | C19: =C8/C17 -> 1.0849798 | D19: =D8/D17 -> 1.0963595 | E19: =E8/E17 -> 0.97930966 | G19: ROIC | H19: =+H7/H17 -> 1.0849798 | I19: =+I7/I17 -> 1.0963595 | J19: =+J7/J17 -> 0.97930966

Sheet Cap4. ROIC “La Cuchilla”
A1: Inicio
B3: Estados Financieros "La Cuchilla" a 31 de diciembre de 2024
B5: (Imagen 60) | E5: (Imagen 61)
C6: Año XX | E6: ACTIVOS | H6: PASIVO + NETO
B7: Ventas (sales) | C7: 3400000 | E7: Caja y equivalentes | F7: 350000 | H7: Neto | I7: 505000
B8: (-) Costes directos (Cost of sales) | C8: -1500000 | E8: Activos financieros de corto plazo | F8: 30000
B9: (=) Beneficio bruto (gross profit) | C9: =+C7+C8 -> 1900000 | E9: Clientes | F9: 125000 | H9: Proveedores | I9: 175000
B10: (-) Gastos operativos (OPEX) | C10: -1500000 | E10: Inventarios | F10: 25000 | H10: Deuda a corto plazo | I10: 35000
B11: (=) Beneficio Operativo (EBIT) | C11: =+C9+C10 -> 400000 | E11: Otros activos corrientes | F11: 15000 | H11: Otros pasivos corrientes | I11: 20000
B12: (+/-) Gastos/Ingresos financieros | C12: -75000 | E12: Total activos corrientes | F12: =+SUM(F7:F11) -> 545000 | H12: Total pasivos corrientes | I12: =+SUM(I9:I11) -> 230000
B13: (=) Beneficio Antes de impuestos (EBT) | C13: =+C11+C12 -> 325000 | E13: Activos financieros de largo plazo | F13: 50000 | H13: Deuda a largo plazo | I13: 365000
B14: (-) Impuestos (Taxes) | C14: =+C13*0.25*-1 -> -81250 | E14: Propiedad, planta y equipamiento | F14: 500000 | H14: Otros pasivos no corrientes | I14: 45000
B15: (=) Beneficio Neto (Net Profit) | C15: =+C13+C14 -> 243750 | E15: Otros activos no corrientes | F15: 50000 | H15: Total pasivos no corrientes | I15: =+SUM(I13:I14) -> 410000
E16: Total activos no corrientes | F16: =+SUM(F13:F15) -> 600000 | H16: TOTAL PASIVOS | I16: =+I15+I12 -> 640000
E17: TOTAL ACTIVOS | F17: =+F16+F12 -> 1145000 | H17: TOTAL PASIVO + NETO | I17: =+I16+I7 -> 1145000
B20: Cálculo ROCE | E20: Cálculo ROIC
B22: (Imagen 62)
B23: Cálculo del Working Capital | C23: Año XX | H23: =+F17-I17 -> 0
B24: Caja y equivalentes (2%/ventas) | C24: =+C7*2% -> 68000
B25: =+E9 -> Clientes | C25: =+F9 -> 125000
B26: =+E10 -> Inventarios | C26: =+F10 -> 25000
B27: =+E11 -> Otros activos corrientes | C27: =+F11 -> 15000
B28: Total activos corrientes productivos | C28: =+SUM(C24:C27) -> 233000
B29: =+H9 -> Proveedores | C29: =+I9 -> 175000
B30: =+H11 -> Otros pasivos corrientes | C30: =+I11 -> 20000
B31: Total pasivos corrientes sin intereses | C31: =+SUM(C29:C30) -> 195000
B32: Net Working Capital | C32: =+C28-C31 -> 38000
B34: (Imagen 63) | E34: (Imagen 64)
B35: Cálculo del Capital Employed | C35: Año XX | E35: Cálculo Invested Capital | F35: Año XX
B36: Net Working Capital | C36: =+C32 -> 38000 | E36: Neto | F36: =+I7 -> 505000
B37: Propiedad, planta y equipamiento | C37: =+F14 -> 500000 | E37: Deuda Corto | F37: =+I10 -> 35000
B38: Otros activos no corrientes | C38: =++F15 -> 50000 | E38: Deuda Largo | F38: =+I13 -> 365000
B39: Capital Employed | C39: =+SUM(C36:C38) -> 588000 | E39: (-) Cash ocioso | F39: =-(F7-C24)-F8-F13 -> -362000
E40: Deuda neta | F40: =+SUM(F37:F39) -> 38000
E41: Otros pasivos no corrientes | F41: =+I14 -> 45000
E42: Capital Invested | F42: =+F40+F36+F41 -> 588000
J43: .
B45: Cálculo ROCE | C45: 2023 | E45: Cálculo ROIC | F45: 2023
B46: NOPAT | C46: =+C11+C14 -> 318750 | E46: NOPAT | F46: =+C11+C14 -> 318750
